BEGIN:VCALENDAR
VERSION:2.0
PRODID:-//Bonsai Vereniging Brabant - ECPv6.15.18//NONSGML v1.0//EN
CALSCALE:GREGORIAN
METHOD:PUBLISH
X-WR-CALNAME:Bonsai Vereniging Brabant
X-ORIGINAL-URL:https://bonsai-brabant.nl
X-WR-CALDESC:Evenementen voor Bonsai Vereniging Brabant
REFRESH-INTERVAL;VALUE=DURATION:PT1H
X-Robots-Tag:noindex
X-PUBLISHED-TTL:PT1H
BEGIN:VTIMEZONE
TZID:UTC
BEGIN:STANDARD
TZOFFSETFROM:+0000
TZOFFSETTO:+0000
TZNAME:UTC
DTSTART:20250101T000000
END:STANDARD
END:VTIMEZONE
BEGIN:VEVENT
DTSTART;TZID=UTC:20260420T073000
DTEND;TZID=UTC:20260420T220000
DTSTAMP:20260420T003857
CREATED:20260324T075604Z
LAST-MODIFIED:20260324T080023Z
UID:433-1776670200-1776722400@bonsai-brabant.nl
SUMMARY:New talent Contest en werken aan eigen bomen
DESCRIPTION:Vanavond vind de new talent Contest plaats en bepalen we wie er meedoet aan de landelijke wedstrijd. Daarnaast werken we aan eigen bomen.
URL:https://bonsai-brabant.nl/?tribe_events=new-talent-contest-en-werken-aan-eigen-bomen
LOCATION:De Moerkoal\, Driezeeg 20\, Berlicum\, 5258 LE\, Nederland
CATEGORIES:Maandelijkse verenigingsavond
END:VEVENT
BEGIN:VEVENT
DTSTART;TZID=UTC:20260518T073000
DTEND;TZID=UTC:20260518T220000
DTSTAMP:20260420T003857
CREATED:20260324T075725Z
LAST-MODIFIED:20260324T075953Z
UID:435-1779089400-1779141600@bonsai-brabant.nl
SUMMARY:Werken aan eigen bomen
DESCRIPTION:Vanavond kan je\, onder deskundige begeleiding\, werken aan je eigen bonsai.
URL:https://bonsai-brabant.nl/?tribe_events=werken-aan-eigen-bomen
LOCATION:De Moerkoal\, Driezeeg 20\, Berlicum\, 5258 LE\, Nederland
CATEGORIES:Maandelijkse verenigingsavond
END:VEVENT
BEGIN:VEVENT
DTSTART;TZID=UTC:20260629T073000
DTEND;TZID=UTC:20260629T220000
DTSTAMP:20260420T003857
CREATED:20260324T075919Z
LAST-MODIFIED:20260324T075919Z
UID:437-1782718200-1782770400@bonsai-brabant.nl
SUMMARY:Bomen selecteren voor de NBS en opstelling maken.
DESCRIPTION:vanavond selecteren we bomen van onze leden die een plaats krijgen in de landelijke NBS tentoonstelling. Daarnaast bepalen we de opstelling die we gaan gebruiken.
URL:https://bonsai-brabant.nl/?tribe_events=bomen-selecteren-voor-de-nbs-en-opstelling-maken
LOCATION:De Moerkoal\, Driezeeg 20\, Berlicum\, 5258 LE\, Nederland
CATEGORIES:Maandelijkse verenigingsavond
END:VEVENT
BEGIN:VEVENT
DTSTART;TZID=UTC:20260831T073000
DTEND;TZID=UTC:20260831T220000
DTSTAMP:20260420T003857
CREATED:20260324T080151Z
LAST-MODIFIED:20260324T080151Z
UID:439-1788161400-1788213600@bonsai-brabant.nl
SUMMARY:Werken aan eigen bomen.
DESCRIPTION:Vanavond kan je onder deskundige begeleiding werken aan je eigen bonsai.
URL:https://bonsai-brabant.nl/?tribe_events=werken-aan-eigen-bomen-2
LOCATION:De Moerkoal\, Driezeeg 20\, Berlicum\, 5258 LE\, Nederland
CATEGORIES:Maandelijkse verenigingsavond
END:VEVENT
BEGIN:VEVENT
DTSTART;TZID=UTC:20260921T073000
DTEND;TZID=UTC:20260921T220000
DTSTAMP:20260420T003857
CREATED:20260324T080344Z
LAST-MODIFIED:20260324T080344Z
UID:441-1789975800-1790028000@bonsai-brabant.nl
SUMMARY:Presentatie maken voor NBS tentoonstelling
DESCRIPTION:Vanavond leggen we de laatste hand aan de presentatie voor de NBS tentoonstelling. We selecteren tafels\, accentplanten\, scrolls en mossen de bonsai.
URL:https://bonsai-brabant.nl/?tribe_events=presentatie-maken-voor-nbs-tentoonstelling
LOCATION:De Moerkoal\, Driezeeg 20\, Berlicum\, 5258 LE\, Nederland
CATEGORIES:Maandelijkse verenigingsavond
END:VEVENT
BEGIN:VEVENT
DTSTART;TZID=UTC:20260926T100000
DTEND;TZID=UTC:20260927T170000
DTSTAMP:20260420T003857
CREATED:20260324T080810Z
LAST-MODIFIED:20260324T080810Z
UID:443-1790416800-1790528400@bonsai-brabant.nl
SUMMARY:Nederlandse Bonsai Show
DESCRIPTION:De Bonsai Vereniging Brabant organiseert de NBS – Nederlandse Bonsai Show 2026. \nAlle bonsai verenigingen\, die aangesloten zijn bij de NBV zenden hun bonsai opstellingen in. Het resultaat is een show met de mooiste bonsai van Nederland. \nNaast de tentoonstelling\, zullen de bezoekers genieten van demonstraties\, lezingen en een bonsai markt.
URL:https://bonsai-brabant.nl/?tribe_events=nederlandse-bonsai-show
CATEGORIES:Activiteit van andere organisatie(s)
END:VEVENT
BEGIN:VEVENT
DTSTART;TZID=UTC:20261026T073000
DTEND;TZID=UTC:20261026T220000
DTSTAMP:20260420T003857
CREATED:20260324T080942Z
LAST-MODIFIED:20260324T080942Z
UID:445-1792999800-1793052000@bonsai-brabant.nl
SUMMARY:Herfst & Bonsai door Bart Verstappen en werken aan eigen bomen.
DESCRIPTION:Bart verstappen vertelt over je bonsai in de herfst. Daarnaast is er ruimte om te werken aan eigen bomen.
URL:https://bonsai-brabant.nl/?tribe_events=herfst-bonsai-door-bart-verstappen-en-werken-aan-eigen-bomen
LOCATION:De Moerkoal\, Driezeeg 20\, Berlicum\, 5258 LE\, Nederland
CATEGORIES:Maandelijkse verenigingsavond
END:VEVENT
BEGIN:VEVENT
DTSTART;TZID=UTC:20261130T073000
DTEND;TZID=UTC:20261130T220000
DTSTAMP:20260420T003857
CREATED:20260324T081139Z
LAST-MODIFIED:20260324T081139Z
UID:447-1796023800-1796076000@bonsai-brabant.nl
SUMMARY:Ruilbeurs en werken aan eigen bomen
DESCRIPTION:Vanavond vindt onze ruilbeurs plaats. Neem overbodige bonsai en aanverwante spullen mee om te ruilen.
URL:https://bonsai-brabant.nl/?tribe_events=ruilbeurs-en-werken-aan-eigen-bomen
LOCATION:De Moerkoal\, Driezeeg 20\, Berlicum\, 5258 LE\, Nederland
CATEGORIES:Maandelijkse verenigingsavond
END:VEVENT
END:VCALENDAR